BEGIN:VCALENDAR
VERSION:2.0
PRODID:-//Gemeinde Walkendorf - ECPv6.15.20//NONSGML v1.0//EN
CALSCALE:GREGORIAN
METHOD:PUBLISH
X-WR-CALNAME:Gemeinde Walkendorf
X-ORIGINAL-URL:https://gemeinde-walkendorf.de
X-WR-CALDESC:Veranstaltungen für Gemeinde Walkendorf
REFRESH-INTERVAL;VALUE=DURATION:PT1H
X-Robots-Tag:noindex
X-PUBLISHED-TTL:PT1H
BEGIN:VTIMEZONE
TZID:UTC
BEGIN:STANDARD
TZOFFSETFROM:+0000
TZOFFSETTO:+0000
TZNAME:UTC
DTSTART:20230101T000000
END:STANDARD
END:VTIMEZONE
BEGIN:VEVENT
DTSTART;TZID=UTC:20250417T180000
DTEND;TZID=UTC:20250417T180000
DTSTAMP:20260421T111838
CREATED:20250411T054529Z
LAST-MODIFIED:20250411T054529Z
UID:130-1744912800-1744912800@gemeinde-walkendorf.de
SUMMARY:Osterfeuer in Walkendorf
DESCRIPTION:
URL:https://gemeinde-walkendorf.de/event/osterfeuer-in-walkendorf-2/
LOCATION:Park\, Walkendorf\, Park\, Walkendorf
END:VEVENT
BEGIN:VEVENT
DTSTART;TZID=UTC:20250319T183000
DTEND;TZID=UTC:20250319T193000
DTSTAMP:20260421T111838
CREATED:20250313T085400Z
LAST-MODIFIED:20250313T085400Z
UID:126-1742409000-1742412600@gemeinde-walkendorf.de
SUMMARY:Gemeindevertretersitzung
DESCRIPTION:Am Mittwoch\, dem 19.03.2025\, findet um 18:30 Uhr im Vereinshaus Lühburg\neine Sitzung der Gemeindevertretung statt.\nZum öffentlichen Teil sind alle Bürger recht herzlich eingeladen. \nDie Tagesordnung finden Sie hier: \nTagesordnung
URL:https://gemeinde-walkendorf.de/event/gemeindevertretersitzung-2/
LOCATION:Vereinshaus Lühburg\, Vereinshaus\, Lühburg
END:VEVENT
BEGIN:VEVENT
DTSTART;TZID=UTC:20241211T183000
DTEND;TZID=UTC:20241211T200000
DTSTAMP:20260421T111838
CREATED:20241205T082058Z
LAST-MODIFIED:20241205T082058Z
UID:123-1733941800-1733947200@gemeinde-walkendorf.de
SUMMARY:8. Sitzung der Gemeindevertretung
DESCRIPTION:Die Tagesordnung zur Sitzung finden sie hier.
URL:https://gemeinde-walkendorf.de/event/8-sitzung-der-gemeindevertretung/
LOCATION:Vereinshaus Lühburg\, Vereinshaus\, Lühburg
END:VEVENT
BEGIN:VEVENT
DTSTART;TZID=UTC:20241111T170000
DTEND;TZID=UTC:20241111T200000
DTSTAMP:20260421T111838
CREATED:20241018T082731Z
LAST-MODIFIED:20241018T082731Z
UID:106-1731344400-1731355200@gemeinde-walkendorf.de
SUMMARY:Martinsfest
DESCRIPTION:Martinstag am 11.11.2024 um 17 Uhr in Boddin mit anschließendem Laternenumzug und Martinsfeuer auf dem Sportplatz
URL:https://gemeinde-walkendorf.de/event/martinsfest/
LOCATION:Nicolaikirche\, Boddin
END:VEVENT
BEGIN:VEVENT
DTSTART;TZID=UTC:20241102T170000
DTEND;TZID=UTC:20241102T200000
DTSTAMP:20260421T111838
CREATED:20241016T082114Z
LAST-MODIFIED:20241016T082114Z
UID:109-1730566800-1730577600@gemeinde-walkendorf.de
SUMMARY:Laternenumzug und Lagerfeuer
DESCRIPTION:
URL:https://gemeinde-walkendorf.de/event/laternenumzug-und-lagerfeuer/
LOCATION:Park\, Walkendorf\, Park\, Walkendorf
END:VEVENT
BEGIN:VEVENT
DTSTART;TZID=UTC:20241030T190000
DTEND;TZID=UTC:20241030T200000
DTSTAMP:20260421T111838
CREATED:20241023T073753Z
LAST-MODIFIED:20241023T073753Z
UID:117-1730314800-1730318400@gemeinde-walkendorf.de
SUMMARY:1. OTV-Sitzung Lühburg
DESCRIPTION:Tagesordnung OTV-Sitzung Lühburg
URL:https://gemeinde-walkendorf.de/event/1-otv-sitzung-luehburg/
LOCATION:Vereinshaus Lühburg\, Vereinshaus\, Lühburg
END:VEVENT
BEGIN:VEVENT
DTSTART;TZID=UTC:20241030T180000
DTEND;TZID=UTC:20241030T210000
DTSTAMP:20260421T111838
CREATED:20241011T085203Z
LAST-MODIFIED:20241011T085203Z
UID:103-1730311200-1730322000@gemeinde-walkendorf.de
SUMMARY:Halloween
DESCRIPTION:Halloween-Party am 30.10.2024 ab 18 Uhr auf dem Sportplatz in Boddin
URL:https://gemeinde-walkendorf.de/event/halloween/
LOCATION:Sportplatz\, Boddin
END:VEVENT
BEGIN:VEVENT
DTSTART;TZID=UTC:20241029T190000
DTEND;TZID=UTC:20241029T200000
DTSTAMP:20260421T111838
CREATED:20241023T073510Z
LAST-MODIFIED:20241023T073510Z
UID:113-1730228400-1730232000@gemeinde-walkendorf.de
SUMMARY:1. OTV-Sitzung Boddin
DESCRIPTION:Tagesordnung OTV-Sitzung Boddin
URL:https://gemeinde-walkendorf.de/event/1-otv-sitzung-boddin/
LOCATION:Pfarrhaus Boddin\, Walkendorf OT Boddin
END:VEVENT
BEGIN:VEVENT
DTSTART;TZID=UTC:20240928T180000
DTEND;TZID=UTC:20240928T200000
DTSTAMP:20260421T111838
CREATED:20240924T141239Z
LAST-MODIFIED:20240924T141239Z
UID:99-1727546400-1727553600@gemeinde-walkendorf.de
SUMMARY:Grillabend im Park in Walkendorf
DESCRIPTION: 
URL:https://gemeinde-walkendorf.de/event/grillabend-im-park-in-walkendorf/
LOCATION:Park\, Walkendorf\, Park\, Walkendorf
END:VEVENT
BEGIN:VEVENT
DTSTART;TZID=UTC:20240728T140000
DTEND;TZID=UTC:20240728T160000
DTSTAMP:20260421T111838
CREATED:20240723T102810Z
LAST-MODIFIED:20240723T102810Z
UID:93-1722175200-1722182400@gemeinde-walkendorf.de
SUMMARY:Neptunfest in Walkendorf
DESCRIPTION:
URL:https://gemeinde-walkendorf.de/event/neptunfest-in-walkendorf/
LOCATION:Schlosssee Walkendorf\, Walkendorf
END:VEVENT
BEGIN:VEVENT
DTSTART;TZID=UTC:20240706T140000
DTEND;TZID=UTC:20240707T030000
DTSTAMP:20260421T111838
CREATED:20240612T072041Z
LAST-MODIFIED:20240612T072041Z
UID:87-1720274400-1720321200@gemeinde-walkendorf.de
SUMMARY:Sommerfest in Boddin
DESCRIPTION:Einladung zum Sommerfest  \nAuch in diesem Jahr wird wieder gefeiert. Dazu laden wir Sie recht herzlich am 06.07.2024 auf den Sportplatz in Boddin ein. Ganz nach dem Motto „Selbst ist das Dorf“ gibt es ein buntes Programm\, organisiert und durchgeführt von unseren MitbürgerInnen aus der Altgemeinde Boddin & Friends. \nFür das leibliche Wohl sorgen wir mit Leckerem vom Grill\, aus dem Rauch\, aus der Fritteuse und vom Spanferkel. Auch für Getränke wird durch das Orga-Team gesorgt.\nNatürlich gibt es für die Kleinen auch wieder Hüpfburgen und Kinderschminken. Wir freuen uns auf Groß und Klein.\nEs wird ein Kulturbeitrag  für Erwachsene erhoben. Das Kombiticket für nachmittags und abends ist bis 19.00 Uhr für nur 2€ erhältlich. Für die Abendveranstaltung werden ab 19.00 Uhr 5€ erhoben. Früh da sein lohnt sich also!
URL:https://gemeinde-walkendorf.de/event/sommerfest-in-boddin/
LOCATION:Sportplatz\, Boddin
END:VEVENT
BEGIN:VEVENT
DTSTART;TZID=UTC:20240601T143000
DTEND;TZID=UTC:20240601T190000
DTSTAMP:20260421T111838
CREATED:20240423T085648Z
LAST-MODIFIED:20240423T085648Z
UID:66-1717252200-1717268400@gemeinde-walkendorf.de
SUMMARY:Kinderfest in Boddin
DESCRIPTION:Die Ortsgruppe Boddin der Volkssolidarität lädt am 01.06.2024 alle Kinder und Junggebliebenen der Gemeinde Walkendorf zum Kinderfest in Boddin ein. Ab 14.30 Uhr wird es Spiel und Spaß\, Kinderschminken und eine kleine Schatzsuche auf dem Spielplatz in Boddin geben. Kommt vorbei und lasst euch feiern!
URL:https://gemeinde-walkendorf.de/event/kinderfest-in-boddin/
LOCATION:Spielplatz Boddin
END:VEVENT
BEGIN:VEVENT
DTSTART;TZID=UTC:20240601T140000
DTEND;TZID=UTC:20240601T170000
DTSTAMP:20260421T111838
CREATED:20240523T082759Z
LAST-MODIFIED:20240523T082759Z
UID:73-1717250400-1717261200@gemeinde-walkendorf.de
SUMMARY:Kinderfest in Walkendorf
DESCRIPTION:Der DC Walkendorf lädt zum Kinderfest auf das Gelände der Alten Auspanne ein. Anschließend wird im Park ein Grillabend stattfinden. \nKindertag 2024
URL:https://gemeinde-walkendorf.de/event/kinderfest-in-walkendorf/
LOCATION:Alte Ausspanne\, Walkendorf
END:VEVENT
BEGIN:VEVENT
DTSTART;TZID=UTC:20240529T183000
DTEND;TZID=UTC:20240529T193000
DTSTAMP:20260421T111838
CREATED:20240524T072412Z
LAST-MODIFIED:20240524T072412Z
UID:84-1717007400-1717011000@gemeinde-walkendorf.de
SUMMARY:4. Gemeindevertretersitzung
DESCRIPTION:Am 29.05.2024 findet die nächste Gemeindevertretersitzung mit Einwohnerfragestunde im öffentlichen Teil um 18.30 Uhr im Vereinshaus in Lühburg statt.
URL:https://gemeinde-walkendorf.de/event/4-gemeindevertretersitzung/
LOCATION:Vereinshaus Lühburg\, Vereinshaus\, Lühburg
END:VEVENT
BEGIN:VEVENT
DTSTART;TZID=UTC:20240525T190000
DTEND;TZID=UTC:20240525T200000
DTSTAMP:20260421T111838
CREATED:20240524T071406Z
LAST-MODIFIED:20240524T071406Z
UID:78-1716663600-1716667200@gemeinde-walkendorf.de
SUMMARY:Bläserkonzert 90 Jahre Bläserchöre im Gnoiener Land
DESCRIPTION:
URL:https://gemeinde-walkendorf.de/event/blaeserkonzert-90-jahre-blaeserchoere-im-gnoiener-land/
LOCATION:Nicolaikirche\, Boddin
END:VEVENT
BEGIN:VEVENT
DTSTART;TZID=UTC:20240511T200000
DTEND;TZID=UTC:20240512T020000
DTSTAMP:20260421T111838
CREATED:20240423T085103Z
LAST-MODIFIED:20240423T085103Z
UID:62-1715457600-1715479200@gemeinde-walkendorf.de
SUMMARY:Tanz im Vereinshaus in Lühburg
DESCRIPTION:Am Samstag\, den 11.05.2024\, lädt der DC Walkendorf erstmalig zum Tanz im Vereinshaus in Lühburg ein. \n \nEs wird ein Kulturbeitrag von 5€ erhoben.
URL:https://gemeinde-walkendorf.de/event/tanz-im-vereinshaus-in-luehburg/
LOCATION:Vereinshaus Lühburg\, Vereinshaus\, Lühburg
END:VEVENT
BEGIN:VEVENT
DTSTART;TZID=UTC:20240328T180000
DTEND;TZID=UTC:20240328T200000
DTSTAMP:20260421T111838
CREATED:20240322T165840Z
LAST-MODIFIED:20240322T165840Z
UID:54-1711648800-1711656000@gemeinde-walkendorf.de
SUMMARY:Osterfeuer in Walkendorf
DESCRIPTION:
URL:https://gemeinde-walkendorf.de/event/osterfeuer-in-walkendorf/
LOCATION:Park\, Walkendorf\, Park\, Walkendorf
END:VEVENT
BEGIN:VEVENT
DTSTART;TZID=UTC:20240328T160000
DTEND;TZID=UTC:20240328T200000
DTSTAMP:20260421T111838
CREATED:20240318T114358Z
LAST-MODIFIED:20240319T132717Z
UID:12-1711641600-1711656000@gemeinde-walkendorf.de
SUMMARY:Osterfeuer in Boddin
DESCRIPTION:Am Gründonnerstag\, dem 28.03.2024\, um 16 Uhr findet unser alljährliches Osterfeuer in Boddin statt. Highlights sind auch diesmal wieder die Eiersuche im Pfarrgarten und das Stockbrot backen über dem Osterfeuer. Für das leiblich wohl sort die Ortsgruppe Boddin der Volkssolidarität.
URL:https://gemeinde-walkendorf.de/event/osterfeuer-in-boddin/
LOCATION:Osterfeuer\, Boddin\, Pfarrhaus
END:VEVENT
BEGIN:VEVENT
DTSTART;TZID=UTC:20240320T183000
DTEND;TZID=UTC:20240320T193000
DTSTAMP:20260421T111838
CREATED:20240319T133906Z
LAST-MODIFIED:20240319T133906Z
UID:45-1710959400-1710963000@gemeinde-walkendorf.de
SUMMARY:Gemeindevertretersitzung
DESCRIPTION:Am 20.03.2024 findet die nächste Gemeindevertretersitzung mit Einwohnerfragestunde im öffentlichen Teil um 18.30 Uhr im Vereinshaus in Lühburg statt.
URL:https://gemeinde-walkendorf.de/event/gemeindevertretersitzung/
LOCATION:Vereinshaus Lühburg\, Vereinshaus\, Lühburg
END:VEVENT
END:VCALENDAR